BEGIN:VCALENDAR
VERSION:2.0
PRODID:-//Back the Bay - ECPv6.15.18//NONSGML v1.0//EN
CALSCALE:GREGORIAN
METHOD:PUBLISH
X-WR-CALNAME:Back the Bay
X-ORIGINAL-URL:https://backthebay.org
X-WR-CALDESC:Events for Back the Bay
REFRESH-INTERVAL;VALUE=DURATION:PT1H
X-Robots-Tag:noindex
X-PUBLISHED-TTL:PT1H
BEGIN:VTIMEZONE
TZID:America/New_York
BEGIN:DAYLIGHT
TZOFFSETFROM:-0500
TZOFFSETTO:-0400
TZNAME:EDT
DTSTART:20230312T070000
END:DAYLIGHT
BEGIN:STANDARD
TZOFFSETFROM:-0400
TZOFFSETTO:-0500
TZNAME:EST
DTSTART:20231105T060000
END:STANDARD
BEGIN:DAYLIGHT
TZOFFSETFROM:-0500
TZOFFSETTO:-0400
TZNAME:EDT
DTSTART:20240310T070000
END:DAYLIGHT
BEGIN:STANDARD
TZOFFSETFROM:-0400
TZOFFSETTO:-0500
TZNAME:EST
DTSTART:20241103T060000
END:STANDARD
BEGIN:DAYLIGHT
TZOFFSETFROM:-0500
TZOFFSETTO:-0400
TZNAME:EDT
DTSTART:20250309T070000
END:DAYLIGHT
BEGIN:STANDARD
TZOFFSETFROM:-0400
TZOFFSETTO:-0500
TZNAME:EST
DTSTART:20251102T060000
END:STANDARD
END:VTIMEZONE
BEGIN:VEVENT
DTSTART;TZID=America/New_York:20241015T180000
DTEND;TZID=America/New_York:20241015T190000
DTSTAMP:20260424T105638
CREATED:20240916T182049Z
LAST-MODIFIED:20240916T182049Z
UID:4859-1729015200-1729018800@backthebay.org
SUMMARY:From Grey to Green: Building Resilient Communities with Green Infrastructure
DESCRIPTION:Join Matt Abernathy\, Education & Outreach Coordinator at the Galveston Bay Estuary Program (GBEP)\, for a presentation about Green Infrastructure. Learn about what Green Infrastructure is\, why is it important\, and how green infrastructure projects can help to improve water quality and mitigate flooding by working with nature.
URL:https://backthebay.org/event/from-grey-to-green-building-resilient-communities-with-green-infrastructure/
LOCATION:Evelyn Meador Library\, 2400 N. Meyer Ave\, Seabrook\, Texas\, 77586
CATEGORIES:GBEP Events
END:VEVENT
BEGIN:VEVENT
DTSTART;TZID=America/New_York:20240916T080000
DTEND;TZID=America/New_York:20240916T170000
DTSTAMP:20260424T105638
CREATED:20240916T182442Z
LAST-MODIFIED:20240916T182442Z
UID:4861-1726473600-1726506000@backthebay.org
SUMMARY:Bird Walk at E.R. and Ann Taylor Park
DESCRIPTION:Join Zoe Gapayao from the Galveston Bay Estuary Program\, along with Houston Audubon and Nature Heritage Society for a guided bird walk at E.R. & Ann Taylor Park! This park is a 26-acre forest oasis in southern Houston. Standing at the entrance to the park\, at 1850 Reed Road\, one has a clear view of the skylines of downtown and the Texas Medical Center. The bustling environment of Almeda Road begins at the next intersection. But inside the gates\, a tranquil world of birdcalls\, grapevines and ancient oak trees awaits. A 1.08-mile nature trail takes hikers through the woods. Scattered within the forest are bird watching blinds\, designed so that viewers can observe wildlife without scaring it off\, boardwalks to keep visitors out of the occasional puddle\, and an elegant\, 2-story tall viewing stand looking out on the wilderness pond ecosystem and the surrounding forest. \nPlease wear comfortable closed-toed shoes\, weather appropriate gear\, and bug spray. Bring your reusable water bottle. \nWe will meet at the pavilion.
URL:https://backthebay.org/event/bird-walk-at-e-r-and-ann-taylor-park/
LOCATION:E.R. & Ann Taylor Park\, 1850 Reed Rd.\, Houston\, Texas\, 77051
CATEGORIES:GBEP Events
END:VEVENT
BEGIN:VEVENT
DTSTART;TZID=America/New_York:20240727T090000
DTEND;TZID=America/New_York:20240727T110000
DTSTAMP:20260424T105638
CREATED:20240610T145015Z
LAST-MODIFIED:20240610T145102Z
UID:4817-1722070800-1722078000@backthebay.org
SUMMARY:One Less Plastic Pledge Cleanup
DESCRIPTION:GBEP is partnering with the Environmental Institute of Houston at the University of Houston-Clear Lake to do a campus cleanup in support of the One Less Plastic Pledge. \nFor more information\, you can email gbep@tceq.texas.gov or oakley@uhcl.edu.
URL:https://backthebay.org/event/one-less-plastic-pledge-cleanup/
LOCATION:University of Houston-Clear Lake\, 2700 Bay Area Blvd\, Houston\, TX\, 77058\, United States
CATEGORIES:GBEP Events
ORGANIZER;CN="Galveston Bay Estuary Program":MAILTO:gbep@tceq.texas.gov
END:VEVENT
BEGIN:VEVENT
DTSTART;TZID=America/New_York:20240717T093000
DTEND;TZID=America/New_York:20240717T123000
DTSTAMP:20260424T105638
CREATED:20240610T144534Z
LAST-MODIFIED:20240610T145103Z
UID:4815-1721208600-1721219400@backthebay.org
SUMMARY:Galveston Bay Council Quarterly Meeting
DESCRIPTION:This will be the July meeting of the Galveston Bay Council. \nFor more information about the Galveston Bay Council\, you can visit the GBEP website or email Lisa Marshall\, GBEP Program Manager\, at Lisa.Marshall@tceq.texas.gov.
URL:https://backthebay.org/event/galveston-bay-council-quarterly-meeting/
LOCATION:Harris-Galveston Subsidence District Office\, 1660 W. Bay Area Blvd\, Friendswood\, TX\, 77546\, United States
CATEGORIES:GBEP Events
ORGANIZER;CN="Galveston Bay Estuary Program":MAILTO:gbep@tceq.texas.gov
END:VEVENT
BEGIN:VEVENT
DTSTART;VALUE=DATE:20240701
DTEND;VALUE=DATE:20240801
DTSTAMP:20260424T105638
CREATED:20240610T143857Z
LAST-MODIFIED:20240610T145116Z
UID:4812-1719792000-1722470399@backthebay.org
SUMMARY:One Less Plastic Pledge
DESCRIPTION:GBEP and its partners are helping to raise awareness of the issues associated with single-use plastics. We are asking that people pledge to reduce their use or remove from use at least one single-use plastic item during the month of July. \nAdditionally\, GBEP and its partners will be hosting events throughout July and providing information and resources to support this effort.
URL:https://backthebay.org/event/one-less-plastic-pledge/
LOCATION:Texas
CATEGORIES:GBEP Events,Partner Events
ORGANIZER;CN="Galveston Bay Estuary Program":MAILTO:gbep@tceq.texas.gov
END:VEVENT
END:VCALENDAR